BEGIN:VCALENDAR
VERSION:2.0
PRODID:-//Knights of Columbus - ECPv6.9.0//NONSGML v1.0//EN
CALSCALE:GREGORIAN
METHOD:PUBLISH
X-WR-CALNAME:Knights of Columbus
X-ORIGINAL-URL:http://www.kofcmaterchristi.com
X-WR-CALDESC:Events for Knights of Columbus
REFRESH-INTERVAL;VALUE=DURATION:PT1H
X-Robots-Tag:noindex
X-PUBLISHED-TTL:PT1H
BEGIN:VTIMEZONE
TZID:America/Chicago
BEGIN:DAYLIGHT
TZOFFSETFROM:-0600
TZOFFSETTO:-0500
TZNAME:CDT
DTSTART:20240310T080000
END:DAYLIGHT
BEGIN:STANDARD
TZOFFSETFROM:-0500
TZOFFSETTO:-0600
TZNAME:CST
DTSTART:20241103T070000
END:STANDARD
END:VTIMEZONE
BEGIN:VEVENT
DTSTART;TZID=America/Chicago:20240826T190000
DTEND;TZID=America/Chicago:20240826T193000
DTSTAMP:20260419T111527
CREATED:20240429T215048Z
LAST-MODIFIED:20240429T215048Z
UID:1966-1724698800-1724700600@www.kofcmaterchristi.com
SUMMARY:Rosary Guild Rosary Recitation: Our Lady of Czestochowa
DESCRIPTION:Please join us in the recitation of the Holy Rosary prayed for the intentions of those enrolled in the Rosary Guild. The Rosary is prayed monthly and on specially designated Marian feast days.
URL:http://www.kofcmaterchristi.com/event/rosary-guild-rosary-recitation-our-lady-of-czestochowa-2/
LOCATION:St. Priscilla – Marian Grotto\, 5345 W. Roscoe Ave\, Chicago\, 60634\, United States
CATEGORIES:Rosary Guild Rosary Recitation
END:VEVENT
BEGIN:VEVENT
DTSTART;TZID=America/Chicago:20240819T193000
DTEND;TZID=America/Chicago:20240819T203000
DTSTAMP:20260419T111527
CREATED:20240429T213007Z
LAST-MODIFIED:20240429T213007Z
UID:1934-1724095800-1724099400@www.kofcmaterchristi.com
SUMMARY:Officer's Meeting
DESCRIPTION:Monthly Mater Christi Council Officer’s Meeting. All members are welcome.
URL:http://www.kofcmaterchristi.com/event/officers-meeting-26/
LOCATION:St. Ferdinand – Canning Hall\, 5900 W Barry Ave\, Chicago\, IL\, 60634\, United States
CATEGORIES:Officer's Monthly Meeting
END:VEVENT
BEGIN:VEVENT
DTSTART;TZID=America/Chicago:20240815T080000
DTEND;TZID=America/Chicago:20240815T083000
DTSTAMP:20260419T111527
CREATED:20240626T130915Z
LAST-MODIFIED:20240626T130915Z
UID:2155-1723708800-1723710600@www.kofcmaterchristi.com
SUMMARY:Joyous Occasion Mass\, Rosary & Adoration
DESCRIPTION:Monthly mass\, rosary recitation\, and adoration for the intentions of joyous occasions enrolled in the Mater Christi Council Rosary Guild. \nMasses will be live streamed from St. Ferdinand Church (www.stferdinandchurch.com). Masses are archived and available for viewing by you and your family from your home at any time up to 3 months
URL:http://www.kofcmaterchristi.com/event/joyous-occasion-mass-rosary-adoration-3/
LOCATION:St. Ferdinand Church\, 5900 W Barry Ave\, Chicago\, IL\, 60634\, United States
CATEGORIES:Rosary Guild Joyous Occasion Mass; Adoration
END:VEVENT
BEGIN:VEVENT
DTSTART;TZID=America/Chicago:20240808T080000
DTEND;TZID=America/Chicago:20240808T083000
DTSTAMP:20260419T111527
CREATED:20240429T221243Z
LAST-MODIFIED:20240712T164403Z
UID:1993-1723104000-1723105800@www.kofcmaterchristi.com
SUMMARY:Mother’s & Father’s Mass\, Rosary\, & Adoration
DESCRIPTION:Monthly mass\, rosary recitation\, and adoration for the intention of the mothers and fathers enrolled in the Mater Christi Council Rosary Guild.
URL:http://www.kofcmaterchristi.com/event/mothers-fathers-mass-rosary-adoration-12/
LOCATION:St. Ferdinand Church\, 5900 W Barry Ave\, Chicago\, IL\, 60634\, United States
CATEGORIES:Rosary Guild Mothers & Fathers Mass; Adoration
END:VEVENT
BEGIN:VEVENT
DTSTART;TZID=America/Chicago:20240805T193000
DTEND;TZID=America/Chicago:20240805T203000
DTSTAMP:20260419T111527
CREATED:20240429T212229Z
LAST-MODIFIED:20240429T212229Z
UID:1915-1722886200-1722889800@www.kofcmaterchristi.com
SUMMARY:General Business Meeting
DESCRIPTION:All members are encouraged to attend.
URL:http://www.kofcmaterchristi.com/event/general-business-meeting-24/
LOCATION:St. Ferdinand – Canning Hall\, 5900 W Barry Ave\, Chicago\, IL\, 60634\, United States
CATEGORIES:General Monthly Meeting
END:VEVENT
BEGIN:VEVENT
DTSTART;TZID=America/Chicago:20240805T190000
DTEND;TZID=America/Chicago:20240805T193000
DTSTAMP:20260419T111527
CREATED:20240429T214106Z
LAST-MODIFIED:20240429T214106Z
UID:1952-1722884400-1722886200@www.kofcmaterchristi.com
SUMMARY:Rosary Guild Rosary Recitation
DESCRIPTION:Please join us in the recitation of the Holy Rosary prayed for the intentions of those enrolled in the Rosary Guild. The Rosary is prayed monthly and on specially designated Marian feast days.
URL:http://www.kofcmaterchristi.com/event/rosary-guild-rosary-recitation-14/
LOCATION:St. Ferdinand – Canning Hall\, 5900 W Barry Ave\, Chicago\, IL\, 60634\, United States
CATEGORIES:Rosary Guild Rosary Recitation
END:VEVENT
BEGIN:VEVENT
DTSTART;TZID=America/Chicago:20240802T081500
DTEND;TZID=America/Chicago:20240802T084500
DTSTAMP:20260419T111527
CREATED:20240429T215744Z
LAST-MODIFIED:20240429T215744Z
UID:1977-1722586500-1722588300@www.kofcmaterchristi.com
SUMMARY:Rosary Guild Monthly Mass
DESCRIPTION:Please join us for Holy mass\, the recitation of the Holy Rosary\, and Adoration for the intentions of all enrolled in the Mater Christi Rosary Guild.
URL:http://www.kofcmaterchristi.com/event/rosary-guild-monthly-mass-22/
LOCATION:St. Ferdinand Church\, 5900 W Barry Ave\, Chicago\, IL\, 60634\, United States
CATEGORIES:Rosary Guild Monthly Mass
END:VEVENT
BEGIN:VEVENT
DTSTART;TZID=America/Chicago:20240718T080000
DTEND;TZID=America/Chicago:20240718T083000
DTSTAMP:20260419T111527
CREATED:20240626T130835Z
LAST-MODIFIED:20240712T164540Z
UID:2153-1721289600-1721291400@www.kofcmaterchristi.com
SUMMARY:Joyous Occasion Mass\, Rosary & Adoration
DESCRIPTION:Monthly mass\, rosary recitation\, and adoration for the intentions of joyous occasions enrolled in the Mater Christi Council Rosary Guild.
URL:http://www.kofcmaterchristi.com/event/joyous-occasion-mass-rosary-adoration-2/
LOCATION:St. Ferdinand Church\, 5900 W Barry Ave\, Chicago\, IL\, 60634\, United States
CATEGORIES:Rosary Guild Joyous Occasion Mass; Adoration
END:VEVENT
BEGIN:VEVENT
DTSTART;TZID=America/Chicago:20240716T090000
DTEND;TZID=America/Chicago:20240716T093000
DTSTAMP:20260419T111527
CREATED:20240429T215003Z
LAST-MODIFIED:20240429T215003Z
UID:1964-1721120400-1721122200@www.kofcmaterchristi.com
SUMMARY:Rosary Guild Rosary Recitation: Our Lady of Mt. Carmel
DESCRIPTION:Please join us in the recitation of the Holy Rosary prayed for the intentions of those enrolled in the Rosary Guild. The Rosary is prayed monthly and on specially designated Marian feast days.
URL:http://www.kofcmaterchristi.com/event/rosary-guild-rosary-recitation-our-lady-of-mt-carmel/
LOCATION:St. Pascal – Marian Grotto\, 3935 N. Melvina Ave\, Chicago\, IL\, 60634\, United States
CATEGORIES:Rosary Guild Rosary Recitation
END:VEVENT
BEGIN:VEVENT
DTSTART;TZID=America/Chicago:20240715T193000
DTEND;TZID=America/Chicago:20240715T203000
DTSTAMP:20260419T111527
CREATED:20240429T212919Z
LAST-MODIFIED:20240429T212919Z
UID:1932-1721071800-1721075400@www.kofcmaterchristi.com
SUMMARY:Officer's Meeting
DESCRIPTION:Monthly Mater Christi Council Officer’s Meeting. All members are welcome.
URL:http://www.kofcmaterchristi.com/event/officers-meeting-25/
LOCATION:St. Ferdinand – Canning Hall\, 5900 W Barry Ave\, Chicago\, IL\, 60634\, United States
CATEGORIES:Officer's Monthly Meeting
END:VEVENT
BEGIN:VEVENT
DTSTART;TZID=America/Chicago:20240711T080000
DTEND;TZID=America/Chicago:20240711T083000
DTSTAMP:20260419T111527
CREATED:20240429T221155Z
LAST-MODIFIED:20240626T130215Z
UID:1991-1720684800-1720686600@www.kofcmaterchristi.com
SUMMARY:Mother’s & Father’s Mass\, Rosary\, & Adoration
DESCRIPTION:Monthly mass\, rosary recitation\, and adoration for the intention of the mothers and fathers enrolled in the Mater Christi Council Rosary Guild. \nMasses will be live streamed from St. Ferdinand Church (www.stferdinandchurch.com). Masses are archived and available for viewing by you and your family from your home at any time up to 3 months.
URL:http://www.kofcmaterchristi.com/event/mothers-fathers-mass-rosary-adoration-11/
LOCATION:St. Ferdinand Church\, 5900 W Barry Ave\, Chicago\, IL\, 60634\, United States
CATEGORIES:Rosary Guild Mothers & Fathers Mass; Adoration
END:VEVENT
BEGIN:VEVENT
DTSTART;TZID=America/Chicago:20240705T081500
DTEND;TZID=America/Chicago:20240705T084500
DTSTAMP:20260419T111527
CREATED:20240429T215701Z
LAST-MODIFIED:20240429T215701Z
UID:1975-1720167300-1720169100@www.kofcmaterchristi.com
SUMMARY:Rosary Guild Monthly Mass
DESCRIPTION:Please join us for Holy mass\, the recitation of the Holy Rosary\, and Adoration for the intentions of all enrolled in the Mater Christi Rosary Guild
URL:http://www.kofcmaterchristi.com/event/rosary-guild-monthly-mass-21/
LOCATION:St. Ferdinand Church\, 5900 W Barry Ave\, Chicago\, IL\, 60634\, United States
CATEGORIES:Rosary Guild Monthly Mass
END:VEVENT
BEGIN:VEVENT
DTSTART;TZID=America/Chicago:20240701T193000
DTEND;TZID=America/Chicago:20240701T203000
DTSTAMP:20260419T111527
CREATED:20240429T212143Z
LAST-MODIFIED:20240429T214655Z
UID:1913-1719862200-1719865800@www.kofcmaterchristi.com
SUMMARY:General Business Meeting
DESCRIPTION:All members are encouraged to attend.
URL:http://www.kofcmaterchristi.com/event/general-business-meeting-23/
LOCATION:St. Ferdinand – Canning Hall\, 5900 W Barry Ave\, Chicago\, IL\, 60634\, United States
CATEGORIES:General Monthly Meeting
END:VEVENT
BEGIN:VEVENT
DTSTART;TZID=America/Chicago:20240701T190000
DTEND;TZID=America/Chicago:20240701T193000
DTSTAMP:20260419T111527
CREATED:20240429T213824Z
LAST-MODIFIED:20240429T213830Z
UID:1949-1719860400-1719862200@www.kofcmaterchristi.com
SUMMARY:Rosary Guild Rosary Recitation
DESCRIPTION:Please join us in the recitation of the Holy Rosary prayed for the intentions of those enrolled in the Rosary Guild. The Rosary is prayed monthly and on specially designated Marian feast days.
URL:http://www.kofcmaterchristi.com/event/rosary-guild-rosary-recitation-13/
LOCATION:St. Ferdinand – Canning Hall\, 5900 W Barry Ave\, Chicago\, IL\, 60634\, United States
CATEGORIES:Rosary Guild Rosary Recitation
END:VEVENT
BEGIN:VEVENT
DTSTART;TZID=America/Chicago:20240620T080000
DTEND;TZID=America/Chicago:20240620T083000
DTSTAMP:20260419T111527
CREATED:20240626T130634Z
LAST-MODIFIED:20240626T130634Z
UID:2151-1718870400-1718872200@www.kofcmaterchristi.com
SUMMARY:Joyous Occasion Mass\, Rosary & Adoration
DESCRIPTION:Monthly mass\, rosary recitation\, and adoration for the intentions of joyous occasions enrolled in the Mater Christi Council Rosary Guild. \nMasses will be live streamed from St. Ferdinand Church (www.stferdinandchurch.com). Masses are archived and available for viewing by you and your family from your home at any time up to 3 months
URL:http://www.kofcmaterchristi.com/event/joyous-occasion-mass-rosary-adoration/
LOCATION:St. Ferdinand Church\, 5900 W Barry Ave\, Chicago\, IL\, 60634\, United States
CATEGORIES:Rosary Guild Joyous Occasion Mass; Adoration
END:VEVENT
BEGIN:VEVENT
DTSTART;TZID=America/Chicago:20240617T193000
DTEND;TZID=America/Chicago:20240617T203000
DTSTAMP:20260419T111527
CREATED:20240429T212830Z
LAST-MODIFIED:20240429T212830Z
UID:1930-1718652600-1718656200@www.kofcmaterchristi.com
SUMMARY:Installation of Officers
DESCRIPTION:Installation of Mater Christi officers for the 2024-2025 Fraternal Year. All members are welcome.
URL:http://www.kofcmaterchristi.com/event/installation-of-officers/
LOCATION:St. Ferdinand – Canning Hall\, 5900 W Barry Ave\, Chicago\, IL\, 60634\, United States
CATEGORIES:Officer's Monthly Meeting
END:VEVENT
BEGIN:VEVENT
DTSTART;TZID=America/Chicago:20240613T080000
DTEND;TZID=America/Chicago:20240613T090000
DTSTAMP:20260419T111527
CREATED:20240429T220956Z
LAST-MODIFIED:20240626T130251Z
UID:1989-1718265600-1718269200@www.kofcmaterchristi.com
SUMMARY:Mother’s & Father’s Mass\, Rosary\, & Adoration
DESCRIPTION:Monthly mass\, rosary recitation\, and adoration for the intention of the mothers and fathers enrolled in the Mater Christi Council Rosary Guild. \nMasses will be live streamed from St. Ferdinand Church (www.stferdinandchurch.com). Masses are archived and available for viewing by you and your family from your home at any time up to 3 months.
URL:http://www.kofcmaterchristi.com/event/mothers-fathers-mass-rosary-adoration-10/
LOCATION:St. Ferdinand Church\, 5900 W Barry Ave\, Chicago\, IL\, 60634\, United States
CATEGORIES:Rosary Guild Mothers & Fathers Mass; Adoration
END:VEVENT
BEGIN:VEVENT
DTSTART;TZID=America/Chicago:20240607T081500
DTEND;TZID=America/Chicago:20240607T084500
DTSTAMP:20260419T111527
CREATED:20240429T215521Z
LAST-MODIFIED:20240429T215615Z
UID:1973-1717748100-1717749900@www.kofcmaterchristi.com
SUMMARY:Rosary Guild Monthly Mass
DESCRIPTION:Please join us for Holy mass\, the recitation of the Holy Rosary\, and Adoration for the intentions of all enrolled in the Mater Christi Rosary Guild.
URL:http://www.kofcmaterchristi.com/event/rosary-guild-monthly-mass-20/
LOCATION:St. Ferdinand Church\, 5900 W Barry Ave\, Chicago\, IL\, 60634\, United States
CATEGORIES:Rosary Guild Monthly Mass
END:VEVENT
BEGIN:VEVENT
DTSTART;TZID=America/Chicago:20240603T193000
DTEND;TZID=America/Chicago:20240603T203000
DTSTAMP:20260419T111527
CREATED:20240429T212054Z
LAST-MODIFIED:20240429T214618Z
UID:1911-1717443000-1717446600@www.kofcmaterchristi.com
SUMMARY:General Business Meeting
DESCRIPTION:All members are encouraged to attend
URL:http://www.kofcmaterchristi.com/event/general-business-meeting-22/
LOCATION:St. Ferdinand – Canning Hall\, 5900 W Barry Ave\, Chicago\, IL\, 60634\, United States
CATEGORIES:General Monthly Meeting
END:VEVENT
BEGIN:VEVENT
DTSTART;TZID=America/Chicago:20240603T190000
DTEND;TZID=America/Chicago:20240603T193000
DTSTAMP:20260419T111527
CREATED:20240429T213731Z
LAST-MODIFIED:20240429T213731Z
UID:1947-1717441200-1717443000@www.kofcmaterchristi.com
SUMMARY:Rosary Guild Rosary Recitation
DESCRIPTION:Please join us in the recitation of the Holy Rosary prayed for the intentions of those enrolled in the Rosary Guild. The Rosary is prayed monthly and on specially designated Marian feast days.
URL:http://www.kofcmaterchristi.com/event/rosary-guild-rosary-recitation-12/
LOCATION:St. Ferdinand – Canning Hall\, 5900 W Barry Ave\, Chicago\, IL\, 60634\, United States
CATEGORIES:Rosary Guild Rosary Recitation
END:VEVENT
BEGIN:VEVENT
DTSTART;TZID=America/Chicago:20240520T193000
DTEND;TZID=America/Chicago:20240520T203000
DTSTAMP:20260419T111527
CREATED:20240429T212721Z
LAST-MODIFIED:20240429T212729Z
UID:1927-1716233400-1716237000@www.kofcmaterchristi.com
SUMMARY:Officer's Meeting
DESCRIPTION:Monthly Mater Christi Council Officer’s Meeting. All members are welcome.
URL:http://www.kofcmaterchristi.com/event/officers-meeting-24/
LOCATION:St. Ferdinand – Canning Hall\, 5900 W Barry Ave\, Chicago\, IL\, 60634\, United States
CATEGORIES:Officer's Monthly Meeting
END:VEVENT
BEGIN:VEVENT
DTSTART;TZID=America/Chicago:20240513T090000
DTEND;TZID=America/Chicago:20240513T093000
DTSTAMP:20260419T111527
CREATED:20240429T214900Z
LAST-MODIFIED:20240429T214900Z
UID:1962-1715590800-1715592600@www.kofcmaterchristi.com
SUMMARY:Rosary Guild Rosary Recitation: Our Lady of Fatima
DESCRIPTION:Please join us in the recitation of the Holy Rosary prayed for the intentions of those enrolled in the Rosary Guild. The Rosary is prayed monthly and on specially designated Marian feast days.
URL:http://www.kofcmaterchristi.com/event/rosary-guild-rosary-recitation-our-lady-of-fatima-2/
LOCATION:St. Ferdinand – Marian Grotto\, 5900 W Barry Ave\, Chicago\, IL\, 60634\, United States
CATEGORIES:Rosary Guild Rosary Recitation
END:VEVENT
BEGIN:VEVENT
DTSTART;TZID=America/Chicago:20240511T090000
DTEND;TZID=America/Chicago:20240511T093000
DTSTAMP:20260419T111527
CREATED:20240429T220350Z
LAST-MODIFIED:20240429T221019Z
UID:1987-1715418000-1715419800@www.kofcmaterchristi.com
SUMMARY:Mother’s & Father’s Mass\, Rosary\, & Adoration
DESCRIPTION:Monthly mass\, rosary recitation\, and adoration for the intention of the mothers and fathers enrolled in the Mater Christi Council Rosary Guild. \nMasses will be live streamed from St. Ferdinand Church (www.stferdinandchurch.com). Masses are archived and available for viewing by you and your family from your home at any time up to 3 months.
URL:http://www.kofcmaterchristi.com/event/mothers-fathers-mass-rosary-adoration-9/
LOCATION:St. Ferdinand Church\, 5900 W Barry Ave\, Chicago\, IL\, 60634\, United States
CATEGORIES:Rosary Guild Mothers & Fathers Mass; Adoration
END:VEVENT
BEGIN:VEVENT
DTSTART;TZID=America/Chicago:20240509T080000
DTEND;TZID=America/Chicago:20240509T090000
DTSTAMP:20260419T111527
CREATED:20230915T133633Z
LAST-MODIFIED:20230915T134416Z
UID:1725-1715241600-1715245200@www.kofcmaterchristi.com
SUMMARY:Mother’s & Father’s Mass\, Rosary\, & Adoration
DESCRIPTION:Monthly mass\, rosary recitation\, and adoration for the intention of the mothers and fathers enrolled in the Mater Christi Council Rosary Guild. \nMasses will be live streamed from St. Ferdinand Church (www.stferdinandchurch.com).  Masses are archived and available for viewing by you and your family from your home at any time up to 3 months.
URL:http://www.kofcmaterchristi.com/event/mothers-fathers-mass-rosary-adoration-7/
LOCATION:St. Ferdinand Church\, 5900 W Barry Ave\, Chicago\, IL\, 60634\, United States
CATEGORIES:Rosary Guild Mothers & Fathers Mass; Adoration
END:VEVENT
BEGIN:VEVENT
DTSTART;TZID=America/Chicago:20240506T193000
DTEND;TZID=America/Chicago:20240506T203000
DTSTAMP:20260419T111527
CREATED:20240429T211948Z
LAST-MODIFIED:20240429T211948Z
UID:1909-1715023800-1715027400@www.kofcmaterchristi.com
SUMMARY:General Business Meeting
DESCRIPTION:All members are encouraged to attend.
URL:http://www.kofcmaterchristi.com/event/general-business-meeting-21/
LOCATION:St. Ferdinand – Canning Hall\, 5900 W Barry Ave\, Chicago\, IL\, 60634\, United States
CATEGORIES:General Monthly Meeting
END:VEVENT
BEGIN:VEVENT
DTSTART;TZID=America/Chicago:20240506T190000
DTEND;TZID=America/Chicago:20240506T193000
DTSTAMP:20260419T111527
CREATED:20240429T213650Z
LAST-MODIFIED:20240429T214745Z
UID:1945-1715022000-1715023800@www.kofcmaterchristi.com
SUMMARY:Rosary Guild Rosary Recitation
DESCRIPTION:Please join us in the recitation of the Holy Rosary prayed for the intentions of those enrolled in the Rosary Guild. The Rosary is prayed monthly and on specially designated Marian feast days.
URL:http://www.kofcmaterchristi.com/event/rosary-guild-rosary-recitation-11/
LOCATION:St. Ferdinand – Canning Hall\, 5900 W Barry Ave\, Chicago\, IL\, 60634\, United States
CATEGORIES:Rosary Guild Rosary Recitation
END:VEVENT
BEGIN:VEVENT
DTSTART;TZID=America/Chicago:20240503T081500
DTEND;TZID=America/Chicago:20240503T084500
DTSTAMP:20260419T111527
CREATED:20240429T215338Z
LAST-MODIFIED:20240429T215540Z
UID:1970-1714724100-1714725900@www.kofcmaterchristi.com
SUMMARY:Rosary Guild Monthly Mass
DESCRIPTION:Please join us for Holy mass\, the recitation of the Holy Rosary\, and Adoration for the intentions of all enrolled in the Mater Christi Rosary Guild.
URL:http://www.kofcmaterchristi.com/event/rosary-guild-monthly-mass-13/
LOCATION:St. Ferdinand Church\, 5900 W Barry Ave\, Chicago\, IL\, 60634\, United States
CATEGORIES:Rosary Guild Monthly Mass
END:VEVENT
BEGIN:VEVENT
DTSTART;TZID=America/Chicago:20240411T080000
DTEND;TZID=America/Chicago:20240411T090000
DTSTAMP:20260419T111527
CREATED:20230915T133552Z
LAST-MODIFIED:20230915T134352Z
UID:1723-1712822400-1712826000@www.kofcmaterchristi.com
SUMMARY:Mother’s & Father’s Mass\, Rosary\, & Adoration
DESCRIPTION:Monthly mass\, rosary recitation\, and adoration for the intention of the mothers and fathers enrolled in the Mater Christi Council Rosary Guild. \nMasses will be live streamed from St. Ferdinand Church (www.stferdinandchurch.com).  Masses are archived and available for viewing by you and your family from your home at any time up to 3 months.
URL:http://www.kofcmaterchristi.com/event/mothers-fathers-mass-rosary-adoration-6/
LOCATION:St. Ferdinand Church\, 5900 W Barry Ave\, Chicago\, IL\, 60634\, United States
CATEGORIES:Rosary Guild Mothers & Fathers Mass; Adoration
END:VEVENT
BEGIN:VEVENT
DTSTART;TZID=America/Chicago:20240314T080000
DTEND;TZID=America/Chicago:20240314T080000
DTSTAMP:20260419T111527
CREATED:20230915T133407Z
LAST-MODIFIED:20230915T134330Z
UID:1719-1710403200-1710403200@www.kofcmaterchristi.com
SUMMARY:Mother’s & Father’s Mass\, Rosary\, & Adoration
DESCRIPTION:Monthly mass\, rosary recitation\, and adoration for the intention of the mothers and fathers enrolled in the Mater Christi Council Rosary Guild. \nMasses will be live streamed from St. Ferdinand Church (www.stferdinandchurch.com).  Masses are archived and available for viewing by you and your family from your home at any time up to 3 months.
URL:http://www.kofcmaterchristi.com/event/mothers-fathers-mass-rosary-adoration-4/
LOCATION:St. Ferdinand Church\, 5900 W Barry Ave\, Chicago\, IL\, 60634\, United States
CATEGORIES:Rosary Guild Mothers & Fathers Mass; Adoration
END:VEVENT
BEGIN:VEVENT
DTSTART;TZID=America/Chicago:20240208T080000
DTEND;TZID=America/Chicago:20240208T090000
DTSTAMP:20260419T111527
CREATED:20230915T133208Z
LAST-MODIFIED:20230915T134824Z
UID:1717-1707379200-1707382800@www.kofcmaterchristi.com
SUMMARY:Mother’s & Father’s Mass\, Rosary\, & Adoration
DESCRIPTION:Monthly mass\, rosary recitation\, and adoration for the intention of the mothers and fathers enrolled in the Mater Christi Council Rosary Guild. \nMasses will be live streamed from St. Ferdinand Church (www.stferdinandchurch.com).  Masses are archived and available for viewing by you and your family from your home at any time up to 3 months. \n 
URL:http://www.kofcmaterchristi.com/event/mothers-fathers-mass-rosary-adoration-3/
LOCATION:St. Ferdinand Church\, 5900 W Barry Ave\, Chicago\, IL\, 60634\, United States
CATEGORIES:Rosary Guild Mothers & Fathers Mass; Adoration
END:VEVENT
END:VCALENDAR