BEGIN:VCALENDAR
VERSION:2.0
PRODID:-//Knights of Columbus - ECPv6.9.0//NONSGML v1.0//EN
CALSCALE:GREGORIAN
METHOD:PUBLISH
X-WR-CALNAME:Knights of Columbus
X-ORIGINAL-URL:http://www.kofcmaterchristi.com
X-WR-CALDESC:Events for Knights of Columbus
REFRESH-INTERVAL;VALUE=DURATION:PT1H
X-Robots-Tag:noindex
X-PUBLISHED-TTL:PT1H
BEGIN:VTIMEZONE
TZID:America/Chicago
BEGIN:DAYLIGHT
TZOFFSETFROM:-0600
TZOFFSETTO:-0500
TZNAME:CDT
DTSTART:20230312T080000
END:DAYLIGHT
BEGIN:STANDARD
TZOFFSETFROM:-0500
TZOFFSETTO:-0600
TZNAME:CST
DTSTART:20231105T070000
END:STANDARD
END:VTIMEZONE
BEGIN:VEVENT
DTSTART;TZID=America/Chicago:20230717T193000
DTEND;TZID=America/Chicago:20230717T193000
DTSTAMP:20260419T190615
CREATED:20220624T151944Z
LAST-MODIFIED:20220624T151944Z
UID:1016-1689622200-1689622200@www.kofcmaterchristi.com
SUMMARY:Officer's Meeting
DESCRIPTION:Monthly Mater Christi Council Officer’s Meeting.  All members are welcome.
URL:http://www.kofcmaterchristi.com/event/officers-meeting-18/
LOCATION:St. Ferdinand – Canning Hall\, 5900 W Barry Ave\, Chicago\, IL\, 60634\, United States
CATEGORIES:Officer's Monthly Meeting
END:VEVENT
BEGIN:VEVENT
DTSTART;VALUE=DATE:20230716
DTEND;VALUE=DATE:20230717
DTSTAMP:20260419T190615
CREATED:20220721T165458Z
LAST-MODIFIED:20230112T152523Z
UID:1176-1689465600-1689551999@www.kofcmaterchristi.com
SUMMARY:Rosary Guild Rosary Recitation: Feast of Our Lady of Mount Carmel
DESCRIPTION:Please join us in the recitation of the Holy Rosary prayed for the intentions of those enrolled in the Rosary Guild.  The Rosary is prayed monthly and on specially designated Marian feast days. \nThe Rosary will be prayed immediately following the 8:00am mass
URL:http://www.kofcmaterchristi.com/event/rosary-guild-rosary-recitation-feast-of-our-lady-of-mount-carmel/
LOCATION:St. Pascal – Marian Grotto\, 3935 N. Melvina Ave\, Chicago\, IL\, 60634\, United States
CATEGORIES:Rosary Guild Rosary Recitation
END:VEVENT
BEGIN:VEVENT
DTSTART;TZID=America/Chicago:20230707T081500
DTEND;TZID=America/Chicago:20230707T090000
DTSTAMP:20260419T190615
CREATED:20230112T151442Z
LAST-MODIFIED:20230112T151442Z
UID:1244-1688717700-1688720400@www.kofcmaterchristi.com
SUMMARY:Rosary Guild Monthly Mass
DESCRIPTION:Please join us for Holy mass\, the recitation of the Holy Rosary\, and Adoration for the intentions of all enrolled in the Mater Christi Rosary Guild.
URL:http://www.kofcmaterchristi.com/event/rosary-guild-monthly-mass-12/
LOCATION:St. Ferdinand Church\, 5900 W Barry Ave\, Chicago\, IL\, 60634\, United States
CATEGORIES:Rosary Guild Monthly Mass
END:VEVENT
BEGIN:VEVENT
DTSTART;TZID=America/Chicago:20230707T080000
DTEND;TZID=America/Chicago:20230707T090000
DTSTAMP:20260419T190615
CREATED:20220721T165138Z
LAST-MODIFIED:20220721T165324Z
UID:1174-1688716800-1688720400@www.kofcmaterchristi.com
SUMMARY:Rosary Guild Monthly Mass
DESCRIPTION:Join the us for our monthly mass offered for the intentions of those enrolled in the Rosary Guild.  The masses are held at St. Ferdinand Church at 8:00am. \nMasses will be live streamed from St. Ferdinand Church (www.stferdinandparish.com).   Masses are archived and available for viewing by you and your family from your home at any time up to 3 months.
URL:http://www.kofcmaterchristi.com/event/rosary-guild-monthly-mass-6/
LOCATION:St. Ferdinand Church\, 5900 W Barry Ave\, Chicago\, IL\, 60634\, United States
CATEGORIES:Rosary Guild Monthly Mass
END:VEVENT
BEGIN:VEVENT
DTSTART;TZID=America/Chicago:20230703T190000
DTEND;TZID=America/Chicago:20230703T193000
DTSTAMP:20260419T190615
CREATED:20220624T152804Z
LAST-MODIFIED:20230112T152507Z
UID:1037-1688410800-1688412600@www.kofcmaterchristi.com
SUMMARY:Rosary Guild Rosary Recitation
DESCRIPTION:Please join us in the recitation of the Holy Rosary prayed for the intentions of those enrolled in the Rosary Guild.  The Rosary is prayed monthly and on specially designated Marian feast days.
URL:http://www.kofcmaterchristi.com/event/rosary-guild-rosary-recitation-5/
LOCATION:St. Ferdinand – Canning Hall\, 5900 W Barry Ave\, Chicago\, IL\, 60634\, United States
CATEGORIES:Rosary Guild Rosary Recitation
END:VEVENT
BEGIN:VEVENT
DTSTART;TZID=America/Chicago:20230619T193000
DTEND;TZID=America/Chicago:20230619T193000
DTSTAMP:20260419T190615
CREATED:20220624T151910Z
LAST-MODIFIED:20220624T151910Z
UID:1014-1687203000-1687203000@www.kofcmaterchristi.com
SUMMARY:Officer's Meeting
DESCRIPTION:
URL:http://www.kofcmaterchristi.com/event/officers-meeting-17/
LOCATION:St. Ferdinand – Canning Hall\, 5900 W Barry Ave\, Chicago\, IL\, 60634\, United States
CATEGORIES:Officer's Monthly Meeting
END:VEVENT
BEGIN:VEVENT
DTSTART;TZID=America/Chicago:20230605T193000
DTEND;TZID=America/Chicago:20230605T193000
DTSTAMP:20260419T190615
CREATED:20220624T151015Z
LAST-MODIFIED:20220624T151015Z
UID:990-1685993400-1685993400@www.kofcmaterchristi.com
SUMMARY:General Business Meeting
DESCRIPTION:All members are encouraged to attend.
URL:http://www.kofcmaterchristi.com/event/general-business-meeting-15/
LOCATION:St. Ferdinand – Canning Hall\, 5900 W Barry Ave\, Chicago\, IL\, 60634\, United States
CATEGORIES:General Monthly Meeting
END:VEVENT
BEGIN:VEVENT
DTSTART;TZID=America/Chicago:20230605T190000
DTEND;TZID=America/Chicago:20230605T190000
DTSTAMP:20260419T190615
CREATED:20220624T152729Z
LAST-MODIFIED:20220624T152729Z
UID:1035-1685991600-1685991600@www.kofcmaterchristi.com
SUMMARY:Rosary Guild Rosary Recitation
DESCRIPTION:Please join us in the recitation of the Holy Rosary prayed for the intentions of those enrolled in the Rosary Guild.  The Rosary is prayed monthly and on specially designated Marian feast days.
URL:http://www.kofcmaterchristi.com/event/rosary-guild-rosary-recitation-4/
LOCATION:St. Ferdinand – Canning Hall\, 5900 W Barry Ave\, Chicago\, IL\, 60634\, United States
CATEGORIES:Rosary Guild Rosary Recitation
END:VEVENT
BEGIN:VEVENT
DTSTART;TZID=America/Chicago:20230602T081500
DTEND;TZID=America/Chicago:20230602T090000
DTSTAMP:20260419T190615
CREATED:20230112T151401Z
LAST-MODIFIED:20230112T151401Z
UID:1242-1685693700-1685696400@www.kofcmaterchristi.com
SUMMARY:Rosary Guild Monthly Mass
DESCRIPTION:Please join us for Holy mass\, the recitation of the Holy Rosary\, and Adoration for the intentions of all enrolled in the Mater Christi Rosary Guild.
URL:http://www.kofcmaterchristi.com/event/rosary-guild-monthly-mass-11/
LOCATION:St. Ferdinand Church\, 5900 W Barry Ave\, Chicago\, IL\, 60634\, United States
CATEGORIES:Rosary Guild Monthly Mass
END:VEVENT
BEGIN:VEVENT
DTSTART;TZID=America/Chicago:20230602T080000
DTEND;TZID=America/Chicago:20230602T090000
DTSTAMP:20260419T190615
CREATED:20220721T165046Z
LAST-MODIFIED:20220721T165046Z
UID:1172-1685692800-1685696400@www.kofcmaterchristi.com
SUMMARY:Rosary Guild Monthly Mass
DESCRIPTION:Join the us for our monthly mass offered for the intentions of those enrolled in the Rosary Guild.  The masses are held at St. Ferdinand Church at 8:00am. \nMasses will be live streamed from St. Ferdinand Church (www.stferdinandparish.com).   Masses are archived and available for viewing by you and your family from your home at any time up to 3 months.
URL:http://www.kofcmaterchristi.com/event/rosary-guild-monthly-mass-5/
LOCATION:St. Ferdinand Church\, 5900 W Barry Ave\, Chicago\, IL\, 60634\, United States
CATEGORIES:Rosary Guild Monthly Mass
END:VEVENT
BEGIN:VEVENT
DTSTART;TZID=America/Chicago:20230602T080000
DTEND;TZID=America/Chicago:20230602T090000
DTSTAMP:20260419T190615
CREATED:20220721T164959Z
LAST-MODIFIED:20220721T164959Z
UID:1170-1685692800-1685696400@www.kofcmaterchristi.com
SUMMARY:Rosary Guild Monthly Mass
DESCRIPTION:Join the us for our monthly mass offered for the intentions of those enrolled in the Rosary Guild.  The masses are held at St. Ferdinand Church at 8:00am. \nMasses will be live streamed from St. Ferdinand Church (www.stferdinandparish.com).   Masses are archived and available for viewing by you and your family from your home at any time up to 3 months.
URL:http://www.kofcmaterchristi.com/event/rosary-guild-monthly-mass-4/
LOCATION:St. Ferdinand Church\, 5900 W Barry Ave\, Chicago\, IL\, 60634\, United States
CATEGORIES:Rosary Guild Monthly Mass
END:VEVENT
BEGIN:VEVENT
DTSTART;TZID=America/Chicago:20230515T193000
DTEND;TZID=America/Chicago:20230515T193000
DTSTAMP:20260419T190615
CREATED:20220624T151836Z
LAST-MODIFIED:20220624T151836Z
UID:1012-1684179000-1684179000@www.kofcmaterchristi.com
SUMMARY:Officer's Meeting
DESCRIPTION:Monthly Mater Christi Council Officer’s Meeting.  All members are welcome.
URL:http://www.kofcmaterchristi.com/event/officers-meeting-16/
LOCATION:St. Ferdinand – Canning Hall\, 5900 W Barry Ave\, Chicago\, IL\, 60634\, United States
CATEGORIES:Officer's Monthly Meeting
END:VEVENT
BEGIN:VEVENT
DTSTART;VALUE=DATE:20230513
DTEND;VALUE=DATE:20230514
DTSTAMP:20260419T190615
CREATED:20220721T164903Z
LAST-MODIFIED:20230112T152432Z
UID:1168-1683936000-1684022399@www.kofcmaterchristi.com
SUMMARY:Rosary Guild Rosary Recitation: Feast of Our Lady of Fatima
DESCRIPTION:Please join us in the recitation of the Holy Rosary prayed for the intentions of those enrolled in the Rosary Guild.  The Rosary is prayed monthly and on specially designated Marian feast days. \nThe Rosary will be prayed prior to the 12pm mass
URL:http://www.kofcmaterchristi.com/event/rosary-guild-rosary-recitation-feast-of-our-lady-of-fatima/
LOCATION:St. Ferdinand – Marian Grotto\, 5900 W Barry Ave\, Chicago\, IL\, 60634\, United States
CATEGORIES:Rosary Guild Rosary Recitation
END:VEVENT
BEGIN:VEVENT
DTSTART;TZID=America/Chicago:20230505T081500
DTEND;TZID=America/Chicago:20230505T090000
DTSTAMP:20260419T190615
CREATED:20230112T151322Z
LAST-MODIFIED:20230112T151322Z
UID:1240-1683274500-1683277200@www.kofcmaterchristi.com
SUMMARY:Rosary Guild Monthly Mass
DESCRIPTION:Please join us for Holy mass\, the recitation of the Holy Rosary\, and Adoration for the intentions of all enrolled in the Mater Christi Rosary Guild.
URL:http://www.kofcmaterchristi.com/event/rosary-guild-monthly-mass-10/
LOCATION:St. Ferdinand Church\, 5900 W Barry Ave\, Chicago\, IL\, 60634\, United States
CATEGORIES:Rosary Guild Monthly Mass
END:VEVENT
BEGIN:VEVENT
DTSTART;TZID=America/Chicago:20230505T080000
DTEND;TZID=America/Chicago:20230505T090000
DTSTAMP:20260419T190615
CREATED:20220721T163951Z
LAST-MODIFIED:20220721T163951Z
UID:1158-1683273600-1683277200@www.kofcmaterchristi.com
SUMMARY:Rosary Guild Monthly Mass
DESCRIPTION:Join the us for our monthly mass offered for the intentions of those enrolled in the Rosary Guild.  The masses are held at St. Ferdinand Church at 8:00am. \nMasses will be live streamed from St. Ferdinand Church (www.stferdinandparish.com).   Masses are archived and available for viewing by you and your family from your home at any time up to 3 months.
URL:http://www.kofcmaterchristi.com/event/rosary-guild-monthly-mass-3/
LOCATION:St. Ferdinand Church\, 5900 W Barry Ave\, Chicago\, IL\, 60634\, United States
CATEGORIES:Rosary Guild Monthly Mass
END:VEVENT
BEGIN:VEVENT
DTSTART;TZID=America/Chicago:20230502T193000
DTEND;TZID=America/Chicago:20230502T193000
DTSTAMP:20260419T190615
CREATED:20220624T150940Z
LAST-MODIFIED:20220624T151024Z
UID:988-1683055800-1683055800@www.kofcmaterchristi.com
SUMMARY:General Business Meeting
DESCRIPTION:All members are encouraged to attend.
URL:http://www.kofcmaterchristi.com/event/general-business-meeting-14/
LOCATION:St. Ferdinand – Canning Hall\, 5900 W Barry Ave\, Chicago\, IL\, 60634\, United States
CATEGORIES:General Monthly Meeting
END:VEVENT
BEGIN:VEVENT
DTSTART;TZID=America/Chicago:20230501T190000
DTEND;TZID=America/Chicago:20230501T190000
DTSTAMP:20260419T190615
CREATED:20220624T152654Z
LAST-MODIFIED:20220624T152654Z
UID:1033-1682967600-1682967600@www.kofcmaterchristi.com
SUMMARY:Rosary Guild Rosary Recitation
DESCRIPTION:Please join us in the recitation of the Holy Rosary prayed for the intentions of those enrolled in the Rosary Guild.  The Rosary is prayed monthly and on specially designated Marian feast days.
URL:http://www.kofcmaterchristi.com/event/rosary-guild-rosary-recitation-3/
LOCATION:St. Ferdinand – Canning Hall\, 5900 W Barry Ave\, Chicago\, IL\, 60634\, United States
CATEGORIES:Rosary Guild Rosary Recitation
END:VEVENT
BEGIN:VEVENT
DTSTART;TZID=America/Chicago:20230417T193000
DTEND;TZID=America/Chicago:20230417T193000
DTSTAMP:20260419T190615
CREATED:20220624T151803Z
LAST-MODIFIED:20220624T151803Z
UID:1010-1681759800-1681759800@www.kofcmaterchristi.com
SUMMARY:Officer's Meeting
DESCRIPTION:Monthly Mater Christi Council Officer’s Meeting.  All members are welcome.
URL:http://www.kofcmaterchristi.com/event/officers-meeting-15/
LOCATION:St. Ferdinand – Canning Hall\, 5900 W Barry Ave\, Chicago\, IL\, 60634\, United States
CATEGORIES:Officer's Monthly Meeting
END:VEVENT
BEGIN:VEVENT
DTSTART;TZID=America/Chicago:20230414T081500
DTEND;TZID=America/Chicago:20230414T090000
DTSTAMP:20260419T190615
CREATED:20230112T151239Z
LAST-MODIFIED:20230112T151239Z
UID:1238-1681460100-1681462800@www.kofcmaterchristi.com
SUMMARY:Rosary Guild Monthly Mass
DESCRIPTION:Please join us for Holy mass\, the recitation of the Holy Rosary\, and Adoration for the intentions of all enrolled in the Mater Christi Rosary Guild.
URL:http://www.kofcmaterchristi.com/event/rosary-guild-monthly-mass-9/
LOCATION:St. Ferdinand Church\, 5900 W Barry Ave\, Chicago\, IL\, 60634\, United States
CATEGORIES:Rosary Guild Monthly Mass
END:VEVENT
BEGIN:VEVENT
DTSTART;TZID=America/Chicago:20230414T080000
DTEND;TZID=America/Chicago:20230414T090000
DTSTAMP:20260419T190615
CREATED:20220721T163853Z
LAST-MODIFIED:20220721T163853Z
UID:1156-1681459200-1681462800@www.kofcmaterchristi.com
SUMMARY:Rosary Guild Monthly Mass
DESCRIPTION:Please join us for Holy mass\, the recitation of the Holy Rosary\, and Adoration for the intentions of mothers and fathers enrolled in the Rosary Guild Mother’s & Father’s Day intention lists.
URL:http://www.kofcmaterchristi.com/event/rosary-guild-monthly-mass-2/
LOCATION:St. Ferdinand Church\, 5900 W Barry Ave\, Chicago\, IL\, 60634\, United States
CATEGORIES:Rosary Guild Monthly Mass
END:VEVENT
BEGIN:VEVENT
DTSTART;TZID=America/Chicago:20230413T080000
DTEND;TZID=America/Chicago:20230413T090000
DTSTAMP:20260419T190615
CREATED:20220721T163811Z
LAST-MODIFIED:20220721T163811Z
UID:1154-1681372800-1681376400@www.kofcmaterchristi.com
SUMMARY:Rosary Guild Mass Honoring Mothers & Fathers
DESCRIPTION:Please join us for Holy mass\, the recitation of the Holy Rosary\, and Adoration for the intentions of mothers and fathers enrolled in the Rosary Guild Mother’s & Father’s Day intention lists.
URL:http://www.kofcmaterchristi.com/event/rosary-guild-mass-honoring-mothers-fathers-3/
LOCATION:St. Ferdinand Church\, 5900 W Barry Ave\, Chicago\, IL\, 60634\, United States
CATEGORIES:Rosary Guild Mothers & Fathers Mass; Adoration
END:VEVENT
BEGIN:VEVENT
DTSTART;TZID=America/Chicago:20230403T193000
DTEND;TZID=America/Chicago:20230403T193000
DTSTAMP:20260419T190615
CREATED:20220624T150850Z
LAST-MODIFIED:20220624T150850Z
UID:986-1680550200-1680550200@www.kofcmaterchristi.com
SUMMARY:General Business Meeting
DESCRIPTION:All members are encouraged to attend.
URL:http://www.kofcmaterchristi.com/event/general-business-meeting-13/
LOCATION:St. Ferdinand – Canning Hall\, 5900 W Barry Ave\, Chicago\, IL\, 60634\, United States
CATEGORIES:General Monthly Meeting
END:VEVENT
BEGIN:VEVENT
DTSTART;TZID=America/Chicago:20230403T190000
DTEND;TZID=America/Chicago:20230403T190000
DTSTAMP:20260419T190615
CREATED:20220624T152626Z
LAST-MODIFIED:20220624T152626Z
UID:1031-1680548400-1680548400@www.kofcmaterchristi.com
SUMMARY:Rosary Guild Rosary Recitation
DESCRIPTION:Please join us in the recitation of the Holy Rosary prayed for the intentions of those enrolled in the Rosary Guild.  The Rosary is prayed monthly and on specially designated Marian feast days.
URL:http://www.kofcmaterchristi.com/event/rosary-guild-rosary-recitation-2/
LOCATION:St. Ferdinand – Canning Hall\, 5900 W Barry Ave\, Chicago\, IL\, 60634\, United States
CATEGORIES:Rosary Guild Rosary Recitation
END:VEVENT
BEGIN:VEVENT
DTSTART;TZID=America/Chicago:20230320T193000
DTEND;TZID=America/Chicago:20230320T193000
DTSTAMP:20260419T190615
CREATED:20220624T151733Z
LAST-MODIFIED:20220624T151733Z
UID:1008-1679340600-1679340600@www.kofcmaterchristi.com
SUMMARY:Officer's Meeting
DESCRIPTION:Monthly Mater Christi Council Officer’s Meeting.  All members are welcome.
URL:http://www.kofcmaterchristi.com/event/officers-meeting-14/
LOCATION:St. Ferdinand – Canning Hall\, 5900 W Barry Ave\, Chicago\, IL\, 60634\, United States
CATEGORIES:Officer's Monthly Meeting
END:VEVENT
BEGIN:VEVENT
DTSTART;TZID=America/Chicago:20230309T080000
DTEND;TZID=America/Chicago:20230309T090000
DTSTAMP:20260419T190615
CREATED:20220721T163649Z
LAST-MODIFIED:20220721T163649Z
UID:1151-1678348800-1678352400@www.kofcmaterchristi.com
SUMMARY:Rosary Guild Mass Honoring Mothers & Fathers
DESCRIPTION:Please join us for Holy mass\, the recitation of the Holy Rosary\, and Adoration for the intentions of mothers and fathers enrolled in the Rosary Guild Mother’s & Father’s Day intention lists.
URL:http://www.kofcmaterchristi.com/event/rosary-guild-mass-honoring-mothers-fathers-2/
LOCATION:St. Ferdinand Church\, 5900 W Barry Ave\, Chicago\, IL\, 60634\, United States
CATEGORIES:Rosary Guild Mothers & Fathers Mass; Adoration
END:VEVENT
BEGIN:VEVENT
DTSTART;TZID=America/Chicago:20230306T193000
DTEND;TZID=America/Chicago:20230306T193000
DTSTAMP:20260419T190615
CREATED:20220624T150756Z
LAST-MODIFIED:20220624T150756Z
UID:984-1678131000-1678131000@www.kofcmaterchristi.com
SUMMARY:General Business Meeting
DESCRIPTION:All members are encouraged to attend.
URL:http://www.kofcmaterchristi.com/event/general-business-meeting-12/
LOCATION:St. Ferdinand – Canning Hall\, 5900 W Barry Ave\, Chicago\, IL\, 60634\, United States
CATEGORIES:General Monthly Meeting
END:VEVENT
BEGIN:VEVENT
DTSTART;TZID=America/Chicago:20230306T190000
DTEND;TZID=America/Chicago:20230306T190000
DTSTAMP:20260419T190615
CREATED:20220624T152558Z
LAST-MODIFIED:20220624T152558Z
UID:1029-1678129200-1678129200@www.kofcmaterchristi.com
SUMMARY:Rosary Guild Rosary Recitation
DESCRIPTION:Please join us in the recitation of the Holy Rosary prayed for the intentions of those enrolled in the Rosary Guild.  The Rosary is prayed monthly and on specially designated Marian feast days.
URL:http://www.kofcmaterchristi.com/event/rosary-guild-rosary-recitation/
LOCATION:St. Ferdinand – Canning Hall\, 5900 W Barry Ave\, Chicago\, IL\, 60634\, United States
CATEGORIES:Rosary Guild Rosary Recitation
END:VEVENT
BEGIN:VEVENT
DTSTART;TZID=America/Chicago:20230303T081500
DTEND;TZID=America/Chicago:20230303T090000
DTSTAMP:20260419T190615
CREATED:20230112T151155Z
LAST-MODIFIED:20230112T151155Z
UID:1236-1677831300-1677834000@www.kofcmaterchristi.com
SUMMARY:Rosary Guild Monthly Mass
DESCRIPTION:Please join us for Holy mass\, the recitation of the Holy Rosary\, and Adoration for the intentions of all enrolled in the Mater Christi Rosary Guild.
URL:http://www.kofcmaterchristi.com/event/rosary-guild-monthly-mass-8/
LOCATION:St. Ferdinand Church\, 5900 W Barry Ave\, Chicago\, IL\, 60634\, United States
CATEGORIES:Rosary Guild Monthly Mass
END:VEVENT
BEGIN:VEVENT
DTSTART;TZID=America/Chicago:20230303T080000
DTEND;TZID=America/Chicago:20230303T090000
DTSTAMP:20260419T190615
CREATED:20220721T163522Z
LAST-MODIFIED:20220721T164449Z
UID:1149-1677830400-1677834000@www.kofcmaterchristi.com
SUMMARY:Rosary Guild Monthly Mass
DESCRIPTION:Join the us for our monthly mass offered for the intentions of those enrolled in the Rosary Guild.  The masses are held at St. Ferdinand Church at 8:00am. \nMasses will be live streamed from St. Ferdinand Church (www.stferdinandparish.com).   Masses are archived and available for viewing by you and your family from your home at any time up to 3 months.
URL:http://www.kofcmaterchristi.com/event/rosary-guild-monthly-mass/
LOCATION:St. Ferdinand Church\, 5900 W Barry Ave\, Chicago\, IL\, 60634\, United States
CATEGORIES:Rosary Guild Monthly Mass
END:VEVENT
BEGIN:VEVENT
DTSTART;TZID=America/Chicago:20230220T193000
DTEND;TZID=America/Chicago:20230220T193000
DTSTAMP:20260419T190615
CREATED:20220624T151637Z
LAST-MODIFIED:20220624T151637Z
UID:1006-1676921400-1676921400@www.kofcmaterchristi.com
SUMMARY:Officer's Meeting
DESCRIPTION:Monthly Mater Christi Council Officer’s Meeting.  All members are welcome.
URL:http://www.kofcmaterchristi.com/event/officers-meeting-13/
LOCATION:St. Ferdinand – Canning Hall\, 5900 W Barry Ave\, Chicago\, IL\, 60634\, United States
CATEGORIES:Officer's Monthly Meeting
END:VEVENT
END:VCALENDAR