BEGIN:VCALENDAR
VERSION:2.0
PRODID:-//Knights of Columbus - ECPv6.9.0//NONSGML v1.0//EN
CALSCALE:GREGORIAN
METHOD:PUBLISH
X-WR-CALNAME:Knights of Columbus
X-ORIGINAL-URL:http://www.kofcmaterchristi.com
X-WR-CALDESC:Events for Knights of Columbus
REFRESH-INTERVAL;VALUE=DURATION:PT1H
X-Robots-Tag:noindex
X-PUBLISHED-TTL:PT1H
BEGIN:VTIMEZONE
TZID:America/Chicago
BEGIN:DAYLIGHT
TZOFFSETFROM:-0600
TZOFFSETTO:-0500
TZNAME:CDT
DTSTART:20220313T080000
END:DAYLIGHT
BEGIN:STANDARD
TZOFFSETFROM:-0500
TZOFFSETTO:-0600
TZNAME:CST
DTSTART:20221106T070000
END:STANDARD
END:VTIMEZONE
BEGIN:VEVENT
DTSTART;TZID=America/Chicago:20220905T193000
DTEND;TZID=America/Chicago:20220905T203000
DTSTAMP:20260420T030846
CREATED:20220216T154350Z
LAST-MODIFIED:20220216T155402Z
UID:715-1662406200-1662409800@www.kofcmaterchristi.com
SUMMARY:General Business Meeting
DESCRIPTION:All members are encouraged to attend.
URL:http://www.kofcmaterchristi.com/event/general-business-meeting-6/
LOCATION:St. Ferdinand – Canning Hall\, 5900 W Barry Ave\, Chicago\, IL\, 60634\, United States
CATEGORIES:General Monthly Meeting
END:VEVENT
BEGIN:VEVENT
DTSTART;TZID=America/Chicago:20220902T080000
DTEND;TZID=America/Chicago:20220902T090000
DTSTAMP:20260420T030846
CREATED:20211216T213305Z
LAST-MODIFIED:20220721T164155Z
UID:612-1662105600-1662109200@www.kofcmaterchristi.com
SUMMARY:Rosary Guild Monthly Mass: September\, 2022
DESCRIPTION:Join the us for our monthly mass offered for the intentions of those enrolled in the Rosary Guild.  The masses are held at St. Ferdinand Church at 8:00am. \nMasses will be live streamed from St. Ferdinand Church (www.stferdinandparish.com).   Masses are archived and available for viewing by you and your family from your home at any time up to 3 months.
URL:http://www.kofcmaterchristi.com/event/rosary-guild-monthly-mass-september-2022/
LOCATION:St. Ferdinand Church\, 5900 W Barry Ave\, Chicago\, IL\, 60634\, United States
CATEGORIES:Rosary Guild Monthly Mass
END:VEVENT
BEGIN:VEVENT
DTSTART;TZID=America/Chicago:20220815T193000
DTEND;TZID=America/Chicago:20220815T203000
DTSTAMP:20260420T030846
CREATED:20220216T153420Z
LAST-MODIFIED:20220216T155353Z
UID:693-1660591800-1660595400@www.kofcmaterchristi.com
SUMMARY:Officer's Meeting
DESCRIPTION:Monthly Mater Christi Council Officer’s Meeting.  All members are welcome.
URL:http://www.kofcmaterchristi.com/event/officers-meeting-7/
LOCATION:St. Ferdinand – Canning Hall\, 5900 W Barry Ave\, Chicago\, IL\, 60634\, United States
CATEGORIES:Officer's Monthly Meeting
END:VEVENT
BEGIN:VEVENT
DTSTART;TZID=America/Chicago:20220811T080000
DTEND;TZID=America/Chicago:20220811T103000
DTSTAMP:20260420T030846
CREATED:20220507T144854Z
LAST-MODIFIED:20220507T144854Z
UID:852-1660204800-1660213800@www.kofcmaterchristi.com
SUMMARY:Rosary Guild Mass Honoring Mothers & Fathers: August\, 2022
DESCRIPTION:Please join us for Holy mass\, the recitation of the Holy Rosary\, and Adoration for the intentions of mothers and fathers enrolled in the Rosary Guild Mother’s & Father’s Day intention lists.
URL:http://www.kofcmaterchristi.com/event/rosary-guild-mass-honoring-mothers-fathers-august-2022/
LOCATION:St. Ferdinand Church\, 5900 W Barry Ave\, Chicago\, IL\, 60634\, United States
END:VEVENT
BEGIN:VEVENT
DTSTART;TZID=America/Chicago:20220806T090000
DTEND;TZID=America/Chicago:20220806T093000
DTSTAMP:20260420T030846
CREATED:20211216T215023Z
LAST-MODIFIED:20211216T215344Z
UID:639-1659776400-1659778200@www.kofcmaterchristi.com
SUMMARY:Rosary Guild Rosary Recitation: Our Lady of Czestochowa
DESCRIPTION:Please join us in the recitation of the Holy Rosary prayed for the intentions of those enrolled in the Rosary Guild.  The Rosary is prayed monthly and on specially designated Marian feast days.
URL:http://www.kofcmaterchristi.com/event/rosary-guild-rosary-recitation-our-lady-of-czestochowa/
LOCATION:St. Priscilla – Marian Grotto\, 5345 W. Roscoe Ave\, Chicago\, 60634\, United States
CATEGORIES:Rosary Guild Rosary Recitation
END:VEVENT
BEGIN:VEVENT
DTSTART;TZID=America/Chicago:20220806T080000
DTEND;TZID=America/Chicago:20220806T080000
DTSTAMP:20260420T030847
CREATED:20211216T213227Z
LAST-MODIFIED:20220721T164126Z
UID:610-1659772800-1659772800@www.kofcmaterchristi.com
SUMMARY:Rosary Guild Monthly Mass: August\, 2022
DESCRIPTION:Join the us for our monthly mass offered for the intentions of those enrolled in the Rosary Guild.  The masses are held at St. Ferdinand Church at 8:00am. \nMasses will be live streamed from St. Ferdinand Church (www.stferdinandparish.com).   Masses are archived and available for viewing by you and your family from your home at any time up to 3 months.
URL:http://www.kofcmaterchristi.com/event/rosary-guild-monthly-mass-august-2022/
LOCATION:St. Ferdinand Church\, 5900 W Barry Ave\, Chicago\, IL\, 60634\, United States
CATEGORIES:Rosary Guild Monthly Mass
END:VEVENT
BEGIN:VEVENT
DTSTART;TZID=America/Chicago:20220801T193000
DTEND;TZID=America/Chicago:20220801T203000
DTSTAMP:20260420T030847
CREATED:20220216T154316Z
LAST-MODIFIED:20220216T155342Z
UID:713-1659382200-1659385800@www.kofcmaterchristi.com
SUMMARY:General Business Meeting
DESCRIPTION:All members are encouraged to attend.
URL:http://www.kofcmaterchristi.com/event/general-business-meeting-5/
LOCATION:St. Ferdinand – Canning Hall\, 5900 W Barry Ave\, Chicago\, IL\, 60634\, United States
CATEGORIES:General Monthly Meeting
END:VEVENT
BEGIN:VEVENT
DTSTART;TZID=America/Chicago:20220801T190000
DTEND;TZID=America/Chicago:20220801T193000
DTSTAMP:20260420T030847
CREATED:20211216T214854Z
LAST-MODIFIED:20211216T215344Z
UID:637-1659380400-1659382200@www.kofcmaterchristi.com
SUMMARY:Rosary Guild Rosary Recitation: August\, 2022
DESCRIPTION:Please join us in the recitation of the Holy Rosary prayed for the intentions of those enrolled in the Rosary Guild.  The Rosary is prayed monthly and on specially designated Marian feast days.
URL:http://www.kofcmaterchristi.com/event/rosary-guild-rosary-recitation-august-2022/
LOCATION:St. Ferdinand – Canning Hall\, 5900 W Barry Ave\, Chicago\, IL\, 60634\, United States
CATEGORIES:Rosary Guild Rosary Recitation
END:VEVENT
BEGIN:VEVENT
DTSTART;TZID=America/Chicago:20220718T193000
DTEND;TZID=America/Chicago:20220718T203000
DTSTAMP:20260420T030847
CREATED:20220216T153335Z
LAST-MODIFIED:20220216T155332Z
UID:691-1658172600-1658176200@www.kofcmaterchristi.com
SUMMARY:Officer's Meeting
DESCRIPTION:Monthly Mater Christi Council Officer’s Meeting.  All members are welcome.
URL:http://www.kofcmaterchristi.com/event/officers-meeting-6/
LOCATION:St. Ferdinand – Canning Hall\, 5900 W Barry Ave\, Chicago\, IL\, 60634\, United States
CATEGORIES:Officer's Monthly Meeting
END:VEVENT
BEGIN:VEVENT
DTSTART;TZID=America/Chicago:20220718T190000
DTEND;TZID=America/Chicago:20220718T193000
DTSTAMP:20260420T030847
CREATED:20211216T214808Z
LAST-MODIFIED:20211216T215344Z
UID:635-1658170800-1658172600@www.kofcmaterchristi.com
SUMMARY:Rosary Guild Rosary Recitation: July\, 2022
DESCRIPTION:Please join us in the recitation of the Holy Rosary prayed for the intentions of those enrolled in the Rosary Guild.  The Rosary is prayed monthly and on specially designated Marian feast days.
URL:http://www.kofcmaterchristi.com/event/rosary-guild-rosary-recitation-july-2022/
LOCATION:St. Ferdinand – Canning Hall\, 5900 W Barry Ave\, Chicago\, IL\, 60634\, United States
CATEGORIES:Rosary Guild Rosary Recitation
END:VEVENT
BEGIN:VEVENT
DTSTART;TZID=America/Chicago:20220716T090000
DTEND;TZID=America/Chicago:20220716T213000
DTSTAMP:20260420T030847
CREATED:20211216T214720Z
LAST-MODIFIED:20211216T215344Z
UID:632-1657962000-1658007000@www.kofcmaterchristi.com
SUMMARY:Rosary Guild Rosary Recitation: Our Lady of Mount Carmel
DESCRIPTION:Please join us in the recitation of the Holy Rosary prayed for the intentions of those enrolled in the Rosary Guild.  The Rosary is prayed monthly and on specially designated Marian feast days.
URL:http://www.kofcmaterchristi.com/event/rosary-guild-rosary-recitation-our-lady-of-mount-carmel/
LOCATION:St. Pascal – Marian Grotto\, 3935 N. Melvina Ave\, Chicago\, IL\, 60634\, United States
CATEGORIES:Rosary Guild Rosary Recitation
END:VEVENT
BEGIN:VEVENT
DTSTART;TZID=America/Chicago:20220714T080000
DTEND;TZID=America/Chicago:20220714T103000
DTSTAMP:20260420T030847
CREATED:20220507T144811Z
LAST-MODIFIED:20220507T144811Z
UID:850-1657785600-1657794600@www.kofcmaterchristi.com
SUMMARY:Rosary Guild Mass Honoring Mothers & Fathers: July\, 2022
DESCRIPTION:Please join us for Holy mass\, the recitation of the Holy Rosary\, and Adoration for the intentions of mothers and fathers enrolled in the Rosary Guild Mother’s & Father’s Day intention lists.
URL:http://www.kofcmaterchristi.com/event/rosary-guild-mass-honoring-mothers-fathers-july-2022/
LOCATION:St. Ferdinand Church\, 5900 W Barry Ave\, Chicago\, IL\, 60634\, United States
END:VEVENT
BEGIN:VEVENT
DTSTART;TZID=America/Chicago:20220705T193000
DTEND;TZID=America/Chicago:20220705T210000
DTSTAMP:20260420T030847
CREATED:20220216T154238Z
LAST-MODIFIED:20220525T183634Z
UID:711-1657049400-1657054800@www.kofcmaterchristi.com
SUMMARY:General Business Meeting [1 day late due to July 4th]
DESCRIPTION:All members are encouraged to attend.
URL:http://www.kofcmaterchristi.com/event/general-business-meeting-1-day-late-due-to-july-4th/
LOCATION:St. Ferdinand – Canning Hall\, 5900 W Barry Ave\, Chicago\, IL\, 60634\, United States
CATEGORIES:General Monthly Meeting
END:VEVENT
BEGIN:VEVENT
DTSTART;TZID=America/Chicago:20220701T080000
DTEND;TZID=America/Chicago:20220701T090000
DTSTAMP:20260420T030847
CREATED:20220415T031312Z
LAST-MODIFIED:20220721T164041Z
UID:774-1656662400-1656666000@www.kofcmaterchristi.com
SUMMARY:Rosary Guild Monthly Mass: October\, 2022
DESCRIPTION:Join the us for our monthly mass offered for the intentions of those enrolled in the Rosary Guild.  The masses are held at St. Ferdinand Church at 8:00am. \nMasses will be live streamed from St. Ferdinand Church (www.stferdinandparish.com).   Masses are archived and available for viewing by you and your family from your home at any time up to 3 months.
URL:http://www.kofcmaterchristi.com/event/rosary-guild-monthly-mass-october-2022/
LOCATION:St. Ferdinand Church\, 5900 W Barry Ave\, Chicago\, IL\, 60634\, United States
END:VEVENT
BEGIN:VEVENT
DTSTART;TZID=America/Chicago:20220701T080000
DTEND;TZID=America/Chicago:20220701T090000
DTSTAMP:20260420T030847
CREATED:20211216T213148Z
LAST-MODIFIED:20220721T164055Z
UID:608-1656662400-1656666000@www.kofcmaterchristi.com
SUMMARY:Rosary Guild Monthly Mass: July\, 2022
DESCRIPTION:Join the us for our monthly mass offered for the intentions of those enrolled in the Rosary Guild.  The masses are held at St. Ferdinand Church at 8:00am. \nMasses will be live streamed from St. Ferdinand Church (www.stferdinandparish.com).   Masses are archived and available for viewing by you and your family from your home at any time up to 3 months.
URL:http://www.kofcmaterchristi.com/event/rosary-guild-monthly-mass-july-2022/
LOCATION:St. Ferdinand Church\, 5900 W Barry Ave\, Chicago\, IL\, 60634\, United States
CATEGORIES:Rosary Guild Monthly Mass
END:VEVENT
BEGIN:VEVENT
DTSTART;TZID=America/Chicago:20220623T090000
DTEND;TZID=America/Chicago:20220623T113000
DTSTAMP:20260420T030847
CREATED:20220507T144725Z
LAST-MODIFIED:20220507T144725Z
UID:848-1655974800-1655983800@www.kofcmaterchristi.com
SUMMARY:Rosary Guild Mass Honoring Mothers & Fathers: Post-Father's Day\, 2022
DESCRIPTION:Please join us for Holy mass\, the recitation of the Holy Rosary\, and Adoration for the intentions of fathers enrolled in the Rosary Guild Father’s Day intention lists.
URL:http://www.kofcmaterchristi.com/event/rosary-guild-mass-honoring-mothers-fathers-post-fathers-day-2022/
LOCATION:St. Ferdinand Church\, 5900 W Barry Ave\, Chicago\, IL\, 60634\, United States
END:VEVENT
BEGIN:VEVENT
DTSTART;TZID=America/Chicago:20220620T193000
DTEND;TZID=America/Chicago:20220620T193000
DTSTAMP:20260420T030847
CREATED:20220216T152939Z
LAST-MODIFIED:20220216T155310Z
UID:689-1655753400-1655753400@www.kofcmaterchristi.com
SUMMARY:Officer's Meeting
DESCRIPTION:Monthly Mater Christi Council Officer’s Meeting.  All members are welcome.
URL:http://www.kofcmaterchristi.com/event/officers-meeting-5/
LOCATION:St. Ferdinand – Marian Grotto\, 5900 W Barry Ave\, Chicago\, IL\, 60634\, United States
CATEGORIES:Officer's Monthly Meeting
END:VEVENT
BEGIN:VEVENT
DTSTART;TZID=America/Chicago:20220619T090000
DTEND;TZID=America/Chicago:20220619T103000
DTSTAMP:20260420T030847
CREATED:20220507T144639Z
LAST-MODIFIED:20220507T144639Z
UID:846-1655629200-1655634600@www.kofcmaterchristi.com
SUMMARY:Rosary Guild Mass Honoring Mothers & Fathers: Father's Day\, 2022
DESCRIPTION:Please join us for Holy mass\, the recitation of the Holy Rosary\, and Adoration for the intentions of fathers enrolled in the Rosary Guild Father’s Day intention list.
URL:http://www.kofcmaterchristi.com/event/rosary-guild-mass-honoring-mothers-fathers-fathers-day-2022/
LOCATION:St. Monica – Church\, 5136 N Nottingham Ave\, Chicago\, IL\, 60656\, United States
END:VEVENT
BEGIN:VEVENT
DTSTART;VALUE=DATE:20220611
DTEND;VALUE=DATE:20220613
DTSTAMP:20260420T030847
CREATED:20220525T184308Z
LAST-MODIFIED:20220525T184537Z
UID:954-1654905600-1655078399@www.kofcmaterchristi.com
SUMMARY:International Exhibition of the Eucharistic Miracles of the World
DESCRIPTION:An international exhibition designed and created by Blessed Carlo Acutis. \nWith an extensive assortment of photographs and historical descriptions\, the exhibition presents some of the principal Eucharistic Miracles that took place throughout the ages in various countries of the world and which have been recognized by the Church. By means of the panels\, one can “virtually visit” the places where the miracles took place. The current exhibition includes 153 panels that are used to explain 152 Eucharistic Miracles with an additional 22 country and historical panel maps (60×80 cm) \nThe exhibition has already visited well over 3000 parishes in Italy\, the USA\, Canada and in many other countries as well and has been translated into numerous languages.  At this event\, the faithful will be able to read about the miracles in both English and Polish. \nThe exhibition is available for viewing after each of the masses the weekend of June 11th & 12th.  Please join us for this faith affirming event.
URL:http://www.kofcmaterchristi.com/event/international-exhibition-of-the-eucharistic-miracles-of-the-world/
LOCATION:St. Ferdinand – Activity Center\, 5900 W Barry Ave\, Chicago\, IL\, 60634\, United States
END:VEVENT
BEGIN:VEVENT
DTSTART;TZID=America/Chicago:20220606T193000
DTEND;TZID=America/Chicago:20220606T210000
DTSTAMP:20260420T030847
CREATED:20220216T154155Z
LAST-MODIFIED:20220525T183553Z
UID:709-1654543800-1654549200@www.kofcmaterchristi.com
SUMMARY:General Business Meeting
DESCRIPTION:All members are encouraged to attend.
URL:http://www.kofcmaterchristi.com/event/general-business-meeting-4/
LOCATION:St. Ferdinand – Canning Hall\, 5900 W Barry Ave\, Chicago\, IL\, 60634\, United States
CATEGORIES:General Monthly Meeting
END:VEVENT
BEGIN:VEVENT
DTSTART;TZID=America/Chicago:20220606T190000
DTEND;TZID=America/Chicago:20220606T193000
DTSTAMP:20260420T030847
CREATED:20211216T214529Z
LAST-MODIFIED:20211216T215344Z
UID:630-1654542000-1654543800@www.kofcmaterchristi.com
SUMMARY:Rosary Guild Rosary Recitation: June\, 2022
DESCRIPTION:Please join us in the recitation of the Holy Rosary prayed for the intentions of those enrolled in the Rosary Guild.  The Rosary is prayed monthly and on specially designated Marian feast days.
URL:http://www.kofcmaterchristi.com/event/rosary-guild-rosary-recitation-june-2022/
LOCATION:St. Ferdinand – Canning Hall\, 5900 W Barry Ave\, Chicago\, IL\, 60634\, United States
CATEGORIES:Rosary Guild Rosary Recitation
END:VEVENT
BEGIN:VEVENT
DTSTART;TZID=America/Chicago:20220603T081500
DTEND;TZID=America/Chicago:20220603T090000
DTSTAMP:20260420T030847
CREATED:20211216T213111Z
LAST-MODIFIED:20211216T215410Z
UID:606-1654244100-1654246800@www.kofcmaterchristi.com
SUMMARY:Rosary Guild Monthly Mass: June\, 2022
DESCRIPTION:Join the us for our monthly mass offered for the intentions of those enrolled in the Rosary Guild.  The masses are held at St. Ferdinand Church at 8:15am. \nMasses will be live streamed from St. Ferdinand Church (www.stferdinandparish.com).   Masses are archived and available for viewing by you and your family from your home at any time up to 3 months.
URL:http://www.kofcmaterchristi.com/event/rosary-guild-monthly-mass-june-2022/
LOCATION:St. Ferdinand Church\, 5900 W Barry Ave\, Chicago\, IL\, 60634\, United States
CATEGORIES:Rosary Guild Monthly Mass
END:VEVENT
BEGIN:VEVENT
DTSTART;TZID=America/Chicago:20220516T193000
DTEND;TZID=America/Chicago:20220516T203000
DTSTAMP:20260420T030847
CREATED:20220216T152900Z
LAST-MODIFIED:20220216T155247Z
UID:687-1652729400-1652733000@www.kofcmaterchristi.com
SUMMARY:Officer's Meeting
DESCRIPTION:Monthly Mater Christi Council Officer’s Meeting.  All members are welcome.
URL:http://www.kofcmaterchristi.com/event/officers-meeting-4/
LOCATION:St. Ferdinand – Canning Hall\, 5900 W Barry Ave\, Chicago\, IL\, 60634\, United States
CATEGORIES:Officer's Monthly Meeting
END:VEVENT
BEGIN:VEVENT
DTSTART;TZID=America/Chicago:20220513T113000
DTEND;TZID=America/Chicago:20220513T120000
DTSTAMP:20260420T030847
CREATED:20211216T214431Z
LAST-MODIFIED:20211216T215513Z
UID:627-1652441400-1652443200@www.kofcmaterchristi.com
SUMMARY:Rosary Guild Rosary Recitation: Our Lady of Fatima
DESCRIPTION:Please join us in the recitation of the Holy Rosary prayed for the intentions of those enrolled in the Rosary Guild.  The Rosary is prayed monthly and on specially designated Marian feast days.
URL:http://www.kofcmaterchristi.com/event/rosary-guild-rosary-recitation-our-lady-of-fatima/
LOCATION:St. Ferdinand – Marian Grotto\, 5900 W Barry Ave\, Chicago\, IL\, 60634\, United States
CATEGORIES:Rosary Guild Rosary Recitation
END:VEVENT
BEGIN:VEVENT
DTSTART;TZID=America/Chicago:20220512T080000
DTEND;TZID=America/Chicago:20220512T103000
DTSTAMP:20260420T030847
CREATED:20220507T144527Z
LAST-MODIFIED:20220507T144527Z
UID:844-1652342400-1652351400@www.kofcmaterchristi.com
SUMMARY:Rosary Guild Mass Honoring Mothers: Post-Mother's Day\, 2022
DESCRIPTION:Please join us for Holy mass\, the recitation of the Holy Rosary\, and Adoration for the intentions of mothers enrolled in the Rosary Guild Mother’s Day intention lists.
URL:http://www.kofcmaterchristi.com/event/rosary-guild-mass-honoring-mothers-post-mothers-day-2022/
LOCATION:St. Ferdinand Church\, 5900 W Barry Ave\, Chicago\, IL\, 60634\, United States
END:VEVENT
BEGIN:VEVENT
DTSTART;TZID=America/Chicago:20220508T090000
DTEND;TZID=America/Chicago:20220508T103000
DTSTAMP:20260420T030847
CREATED:20220507T144429Z
LAST-MODIFIED:20220507T144429Z
UID:842-1652000400-1652005800@www.kofcmaterchristi.com
SUMMARY:Rosary Guild Mass Honoring Mothers: Mother's Day\, 2022
DESCRIPTION:Please join us for Holy mass\, the recitation of the Holy Rosary\, and Adoration for the intentions of mothers enrolled in the Rosary Guild Mother’s Day intention lists.
URL:http://www.kofcmaterchristi.com/event/rosary-guild-mass-honoring-mothers-mothers-day-2022/
LOCATION:St. Monica – Church\, 5136 N Nottingham Ave\, Chicago\, IL\, 60656\, United States
END:VEVENT
BEGIN:VEVENT
DTSTART;TZID=America/Chicago:20220506T081500
DTEND;TZID=America/Chicago:20220506T090000
DTSTAMP:20260420T030847
CREATED:20211216T213025Z
LAST-MODIFIED:20211216T215410Z
UID:604-1651824900-1651827600@www.kofcmaterchristi.com
SUMMARY:Rosary Guild Monthly Mass: May 2022
DESCRIPTION:Join the us for our monthly mass offered for the intentions of those enrolled in the Rosary Guild.  The masses are held at St. Ferdinand Church at 8:15am. \nMasses will be live streamed from St. Ferdinand Church (www.stferdinandparish.com).   Masses are archived and available for viewing by you and your family from your home at any time up to 3 months.
URL:http://www.kofcmaterchristi.com/event/rosary-guild-monthly-mass-may-2022/
LOCATION:St. Ferdinand Church\, 5900 W Barry Ave\, Chicago\, IL\, 60634\, United States
CATEGORIES:Rosary Guild Monthly Mass
END:VEVENT
BEGIN:VEVENT
DTSTART;TZID=America/Chicago:20220502T193000
DTEND;TZID=America/Chicago:20220502T203000
DTSTAMP:20260420T030847
CREATED:20220216T154128Z
LAST-MODIFIED:20220216T155236Z
UID:707-1651519800-1651523400@www.kofcmaterchristi.com
SUMMARY:General Business Meeting
DESCRIPTION:All members are encouraged to attend.
URL:http://www.kofcmaterchristi.com/event/general-business-meeting-3/
LOCATION:St. Ferdinand – Canning Hall\, 5900 W Barry Ave\, Chicago\, IL\, 60634\, United States
CATEGORIES:General Monthly Meeting
END:VEVENT
BEGIN:VEVENT
DTSTART;TZID=America/Chicago:20220502T190000
DTEND;TZID=America/Chicago:20220502T193000
DTSTAMP:20260420T030847
CREATED:20211216T214300Z
LAST-MODIFIED:20211216T215447Z
UID:625-1651518000-1651519800@www.kofcmaterchristi.com
SUMMARY:Rosary Guild Rosary Recitation: May\, 2022
DESCRIPTION:Please join us in the recitation of the Holy Rosary prayed for the intentions of those enrolled in the Rosary Guild.  The Rosary is prayed monthly and on specially designated Marian feast days.
URL:http://www.kofcmaterchristi.com/event/rosary-guild-rosary-recitation-may-2022/
LOCATION:St. Ferdinand – Canning Hall\, 5900 W Barry Ave\, Chicago\, IL\, 60634\, United States
CATEGORIES:Rosary Guild Rosary Recitation
END:VEVENT
BEGIN:VEVENT
DTSTART;TZID=America/Chicago:20220423T170000
DTEND;TZID=America/Chicago:20220423T183000
DTSTAMP:20260420T030847
CREATED:20220415T033911Z
LAST-MODIFIED:20220415T033911Z
UID:802-1650733200-1650738600@www.kofcmaterchristi.com
SUMMARY:Mater Christi Council 15th Anniversary Mass & Rosary Procession
DESCRIPTION:On Saturday\, April 23 rd \, Mater Christi Council #14284 Knights of Columbus will celebrate our 15th Anniversary with the Holy Sacrifice of the Mass at 5:00 PM \nAfter mass an outdoor procession will end at the Marian Garden of St. John Paul where a rose bouquet of Red\, White and Blue Roses will be presented to honor the Mother of Christ\, who we are named for. \nJoin us\, pray with us\, pray for each other\, pray for our families\, pray for our country\, and especially pray for our world.
URL:http://www.kofcmaterchristi.com/event/mater-christi-council-15th-anniversary-mass-rosary-procession/
LOCATION:St. Ferdinand Church\, 5900 W Barry Ave\, Chicago\, IL\, 60634\, United States
END:VEVENT
END:VCALENDAR