BEGIN:VCALENDAR
VERSION:2.0
PRODID:-//Knights of Columbus - ECPv6.9.0//NONSGML v1.0//EN
CALSCALE:GREGORIAN
METHOD:PUBLISH
X-WR-CALNAME:Knights of Columbus
X-ORIGINAL-URL:http://www.kofcmaterchristi.com
X-WR-CALDESC:Events for Knights of Columbus
REFRESH-INTERVAL;VALUE=DURATION:PT1H
X-Robots-Tag:noindex
X-PUBLISHED-TTL:PT1H
BEGIN:VTIMEZONE
TZID:America/Chicago
BEGIN:DAYLIGHT
TZOFFSETFROM:-0600
TZOFFSETTO:-0500
TZNAME:CDT
DTSTART:20210314T080000
END:DAYLIGHT
BEGIN:STANDARD
TZOFFSETFROM:-0500
TZOFFSETTO:-0600
TZNAME:CST
DTSTART:20211107T070000
END:STANDARD
BEGIN:DAYLIGHT
TZOFFSETFROM:-0600
TZOFFSETTO:-0500
TZNAME:CDT
DTSTART:20220313T080000
END:DAYLIGHT
BEGIN:STANDARD
TZOFFSETFROM:-0500
TZOFFSETTO:-0600
TZNAME:CST
DTSTART:20221106T070000
END:STANDARD
END:VTIMEZONE
BEGIN:VEVENT
DTSTART;VALUE=DATE:20211009
DTEND;VALUE=DATE:20211010
DTSTAMP:20260420T083814
CREATED:20210914T235616Z
LAST-MODIFIED:20210915T000530Z
UID:343-1633737600-1633823999@www.kofcmaterchristi.com
SUMMARY:Mater Christi Council Honors Night
DESCRIPTION:PGK Ovalle \nPGK Archibald \nCost $35 person \nRocco Vino’s Italian Rest \n4747 N. Harlem Harwood Heights \nFor information or to put you name on a list for tickets\, call GK John Martinez (773) 456-6467 or Tony at (773) 879-3435\, or send email to materchristi14284@gmail.com\nDate Updated July 8\, 2021\, This schedule may change. Call or email to verify.
URL:http://www.kofcmaterchristi.com/event/mater-christi-council-honors-night/
LOCATION:Rocco Vino’s Italian Rest\, 4747 N. Harlem\, Harwood Heights\, IL\, United States
END:VEVENT
BEGIN:VEVENT
DTSTART;TZID=America/Chicago:20210920T193000
DTEND;TZID=America/Chicago:20210920T220000
DTSTAMP:20260420T083814
CREATED:20210914T235402Z
LAST-MODIFIED:20210914T235402Z
UID:341-1632166200-1632175200@www.kofcmaterchristi.com
SUMMARY:Benefit Night Open Meeting
DESCRIPTION:7:30 PM Louis White\, General Agent
URL:http://www.kofcmaterchristi.com/event/benefit-night-open-meeting/
LOCATION:IL
END:VEVENT
BEGIN:VEVENT
DTSTART;VALUE=DATE:20210918
DTEND;VALUE=DATE:20210919
DTSTAMP:20260420T083814
CREATED:20210914T235121Z
LAST-MODIFIED:20210914T235121Z
UID:338-1631923200-1632009599@www.kofcmaterchristi.com
SUMMARY:Arlington Park Racetrack
DESCRIPTION:Trackside seating only $10 \nCall Tony (773) 879-3435 to Reserve your tickets.
URL:http://www.kofcmaterchristi.com/event/arlington-park-racetrack/
LOCATION:IL
END:VEVENT
BEGIN:VEVENT
DTSTART;VALUE=DATE:20210805
DTEND;VALUE=DATE:20210806
DTSTAMP:20260420T083814
CREATED:20210914T234541Z
LAST-MODIFIED:20211001T235738Z
UID:334-1628121600-1628207999@www.kofcmaterchristi.com
SUMMARY:FREE Concert
DESCRIPTION:Rosemont Parkway Bank Park \n5501 Park PL\, Rosemont 60018 \nAmerican English featuring music from the Beatles Bring your lawn chairs\, blankets. FREE PARKING
URL:http://www.kofcmaterchristi.com/event/free-concert/
LOCATION:Rosemont Parkway Bank Park\, 5501 Park PL\, Rosemont\, IL\, 60018\, United States
END:VEVENT
BEGIN:VEVENT
DTSTART;VALUE=DATE:20210725
DTEND;VALUE=DATE:20210726
DTSTAMP:20260420T083814
CREATED:20210914T234204Z
LAST-MODIFIED:20210914T234948Z
UID:332-1627171200-1627257599@www.kofcmaterchristi.com
SUMMARY:Chicago Dogs Baseball
DESCRIPTION:Bleachers $9 \nOutfield Reserved $12 \nInfield Reserved $16 \nHome Plate Box $25 \nParking $3 \nCOUNCIL TICKETS SOLD OUT 82 will attend.
URL:http://www.kofcmaterchristi.com/event/chicago-dogs-baseball/
LOCATION:IL
END:VEVENT
BEGIN:VEVENT
DTSTART;TZID=America/Chicago:20210703T193000
DTEND;TZID=America/Chicago:20220624T203000
DTSTAMP:20260420T083814
CREATED:20220624T151116Z
LAST-MODIFIED:20220624T151116Z
UID:992-1625340600-1656102600@www.kofcmaterchristi.com
SUMMARY:General Business Meeting
DESCRIPTION:All members are encouraged to attend.
URL:http://www.kofcmaterchristi.com/event/general-business-meeting-16/
LOCATION:St. Ferdinand – Canning Hall\, 5900 W Barry Ave\, Chicago\, IL\, 60634\, United States
CATEGORIES:General Monthly Meeting
END:VEVENT
END:VCALENDAR